Workbook
Name Carbon: Carbon!$A$4:$L$59
Name data: DryMass!$A$4:$L$59
Name DryMass: DryMass!$A$4:$L$59
Name lai: LAI!$A$4:$H$59
Name Litter: LitterInputs!$A$4:$K$59
Name nitrogen: Nitrogen!$A$4:$U$59

Sheet DryMass
F2: GROWTH | K2: BIOMASS
D3: g DM/m2/yr | I3: g DM/m2
A4: year | B4: plot | C4: CO2 | D4: GWdm | E4: GCRdm | F4: GLdm | G4: GFRdm | H4: NPPdm | I4: Wdm | J4: CRdm | K4: Ldm | L4: FRdm
A5: 1998 | B5: 1 | C5: E | D5: 1540.1958 | E5: 127.28537 | F5: 361.85663 | G5: 167.66842 | H5: =SUM(D5:G5) -> 2197.0062 | I5: 9920.5304 | J5: 2869.8831 | K5: 421.19253 | L5: 111.27242
A6: 1998 | B6: 2 | C6: E | D6: 1487.1587 | E6: 138.69048 | F6: 418.0012 | G6: 174.85344 | H6: =SUM(D6:G6) -> 2218.7039 | I6: 8968.3505 | J6: 2897.4783 | K6: 506.08758 | L6: 102.98932
A7: 1998 | B7: 3 | C7: A | D7: 1085.28 | E7: 112.1698 | F7: 333.36145 | G7: 230.70436 | H7: =SUM(D7:G7) -> 1761.5156 | I7: 8354.6115 | J7: 3045.9811 | K7: 405.04865 | L7: 134.8361
A8: 1998 | B8: 4 | C8: A | D8: 1203.5197 | E8: 112.53679 | F8: 368.26747 | G8: 185.43212 | H8: =SUM(D8:G8) -> 1869.7561 | I8: 9118.9544 | J8: 2951.5907 | K8: 447.93461 | L8: 82.724859
A9: 1998 | B9: 5 | C9: A | D9: 1135.5873 | E9: 109.1631 | F9: 382.01325 | G9: 56.177204 | H9: =SUM(D9:G9) -> 1682.9408 | I9: 9160.9223 | J9: 3195.8338 | K9: 503.89978 | L9: 36.772121
A10: 1999 | B10: 1 | C10: E | D10: 1217.974 | E10: 98.013298 | F10: 475.23309 | G10: 295.22969 | H10: =SUM(D10:G10) -> 2086.4501 | I10: 10656.233 | J10: 2920.8126 | K10: 453.45539 | L10: 182.16379
A11: 1999 | B11: 2 | C11: E | D11: 1273.6343 | E11: 107.92812 | F11: 529.24449 | G11: 277.29793 | H11: =SUM(D11:G11) -> 2188.1049 | I11: 10099.132 | J11: 2943.1748 | K11: 458.37966 | L11: 137.1885
A12: 1999 | B12: 3 | C12: A | D12: 1065.8568 | E12: 93.707 | F12: 418.48406 | G12: 126.36728 | H12: =SUM(D12:G12) -> 1704.4151 | I12: 9114.3546 | J12: 3148.5531 | K12: 503.93106 | L12: 95.856323
A13: 1999 | B13: 4 | C13: A | D13: 1201.1406 | E13: 97.157793 | F13: 462.99861 | G13: 391.10922 | H13: =SUM(D13:G13) -> 2152.4062 | I13: 10359.026 | J13: 2975.1902 | K13: 488.34944 | L13: 278.37671
A14: 1999 | B14: 5 | C14: A | D14: 987.96275 | E14: 98.363645 | F14: 442.17071 | G14: 199.50337 | H14: =SUM(D14:G14) -> 1728.0005 | I14: 9738.5097 | J14: 3259.1501 | K14: 384.69571 | L14: 96.08405
A15: 2000 | B15: 1 | C15: E | D15: 1312.3311 | E15: 107.43138 | F15: 526.34538 | G15: 701.03333 | H15: =SUM(D15:G15) -> 2647.1412 | I15: 11511.26 | J15: 3004.561 | K15: 531.40113 | L15: 200.37561
A16: 2000 | B16: 2 | C16: E | D16: 1490.3447 | E16: 116.67612 | F16: 523.40154 | G16: 371.44602 | H16: =SUM(D16:G16) -> 2501.8683 | I16: 11437.119 | J16: 3059.8509 | K16: 554.10714 | L16: 127.78951
... A59: 2008 | B59: 5 | C59: A | D59: 381.34442 | E59: 30.572915 | F59: 410.70308 | G59: 141.88404 | H59: =SUM(D59:G59) -> 964.50445 | I59: 16279.181 | J59: 3748.7606 | K59: 388.6 | L59: 207.1
D62: Data
B63: year | C63: CO2 | D63: Average of GWdm | E63: Average of GCRdm | F63: Average of GLdm | G63: Average of GFRdm | H63: Average of NPPdm | I63: Average of DRW | J63: Average of DMCR | K63: Average of DML | L63: Average of DMFR
B64: 1998 | C64: A | D64: 1141.4623 | E64: 111.2899 | F64: 361.21406 | G64: 157.43789 | H64: 1771.4042 | I64: 8838.1933 | J64: 3064.4686 | K64: 452.29435 | L64: 84.777694
C65: E | D65: 1513.6772 | E65: 132.98793 | F65: 389.92892 | G65: 171.26093 | H65: 2207.855 | I65: 9390.4422 | J65: 2883.6807 | K65: 463.64005 | L65: 107.13087
B66: 1999 | C66: A | D66: 1084.9867 | E66: 96.409479 | F66: 441.21779 | G66: 238.99329 | H66: 1861.6073 | I66: 9715.5204 | J66: 3127.6311 | K66: 458.99207 | L66: 156.77236
C67: E | D67: 1245.8042 | E67: 102.97071 | F67: 502.23879 | G67: 286.26381 | H67: 2137.2775 | I67: 10270.221 | J67: 2931.9937 | K67: 455.91752 | L67: 159.67615
B68: 2000 | C68: A | D68: 1292.6257 | E68: 104.01153 | F68: 471.71718 | G68: 270.43826 | H68: 2138.7927 | I68: 10917.21 | J68: 3202.1707 | K68: 485.75947 | L68: 69.190471
C69: E | D69: 1401.3379 | E69: 112.05375 | F69: 524.87346 | G69: 536.23968 | H69: 2574.5048 | I69: 11461.274 | J69: 3032.2059 | K69: 542.75413 | L69: 164.08256
B70: 2001 | C70: A | D70: 1234.9474 | E70: 99.387526 | F70: 460.92778 | G70: 413.92508 | H70: 2209.1877 | I70: 12348.689 | J70: 3256.7161 | K70: 428.77918 | L70: 310.82853
C71: E | D71: 1320.069 | E71: 107.17431 | F71: 486.48103 | G71: 852.51307 | H71: 2766.2374 | I71: 12817.365 | J71: 3103.6028 | K71: 513.64063 | L71: 768.42332
B72: 2002 | C72: A | D72: 1156.0291 | E72: 88.761522 | F72: 465.54846 | G72: 245.01484 | H72: 1955.3539 | I72: 13282.005 | J72: 3327.2369 | K72: 481.43525 | L72: 174.98411
C73: E | D73: 1211.3 | E73: 96.876769 | F73: 492.66115 | G73: 801.72804 | H73: 2602.566 | I73: 13221.549 | J73: 3177.1036 | K73: 502.99863 | L73: 602.53325
B74: 2003 | C74: A | D74: 1397.7 | E74: 97.83161 | F74: 478.11077 | G74: 148.88523 | H74: 2122.5276 | I74: 14766.683 | J74: 3400.0555 | K74: 509.95754 | L74: 139.49115
C75: E | D75: 1494.2 | E75: 108.6907 | F75: 480.71473 | G75: 316.49025 | H75: 2400.0957 | I75: 15345.15 | J75: 3274.9535 | K75: 488.58892 | L75: 407.44794
B76: 2004 | C76: A | D76: 1033.0333 | E76: 73.074602 | F76: 455.71667 | G76: 209.13008 | H76: 1770.9547 | I76: 16320.407 | J76: 3463.103 | K76: 445.63257 | L76: 254.78983
C77: E | D77: 1183.5913 | E77: 78.955466 | F77: 478.14462 | G77: 372.21918 | H77: 2112.9105 | I77: 16987.118 | J77: 3353.9134 | K77: 454.60979 | L77: 525.43489
B78: 2005 | C78: A | D78: 951.49187 | E78: 63.706102 | F78: 497.61538 | G78: 96.276088 | H78: 1609.0894 | I78: 16622.549 | J78: 3526.3575 | K78: 486.14013 | L78: 106.89633
C79: E | D79: 923.77821 | E79: 64.508489 | F79: 554.69231 | G79: 341.40125 | H79: 1884.3803 | I79: 17266.143 | J79: 3418.1104 | K79: 569.77237 | L79: 358.49044
B80: 2006 | C80: A | D80: 749.78989 | E80: 49.211552 | F80: 446.94615 | G80: 101.78285 | H80: 1347.7304 | I80: 17854.942 | J80: 3576.589 | K80: 498.81995 | L80: 81.945444
C81: E | D81: 707.78105 | E81: 45.987734 | F81: 494.61538 | G81: 253.58056 | H81: 1501.9647 | I81: 17528.68 | J81: 3464.406 | K81: 586.853 | L81: 247.43329
B82: 2007 | C82: A | D82: 743.37928 | E82: 49.315055 | F82: 447.69744 | G82: 137.46552 | H82: 1377.8573 | I82: 18775.085 | J82: 3625.904 | K82: 518.78058 | L82: 127.3784
C83: E | D83: 733.68791 | E83: 48.690564 | F83: 479.38077 | G83: 236.50317 | H83: 1498.2624 | I83: 18925.322 | J83: 3487.8915 | K83: 556.60153 | L83: 271.38447
B84: 2008 | C84: A | D84: 560.69531 | E84: 40.251337 | F84: 419.26205 | G84: 108.80415 | H84: 1129.0129 | I84: 18480.048 | J84: 3657.4388 | K84: 406.6 | L84: 106.63333
C85: E | D85: 644.82644 | E85: 35.044828 | F85: 438.22231 | G85: 112.20182 | H85: 1230.2954 | I85: 18819.968 | J85: 3522.9363 | K85: 454.85 | L85: 188.25
...

Sheet Carbon
F2: GROWTH | K2: BIOMASS
D3: g C/m2/yr | I3: g C /m2
A4: year | B4: plot | C4: CO2 | D4: GWc | E4: GCRc | F4: GLc | G4: GFRc | H4: NPPc | I4: Wc | J4: CRc | K4: Lc | L4: FRc
A5: 1998 | B5: 1 | C5: E | D5: =DryMass!D5*0.471 -> 725.4322 | E5: =DryMass!E5*0.471 -> 59.951412 | F5: =DryMass!F5*0.463 -> 167.53962 | G5: =DryMass!G5*0.457 -> 76.624467 | H5: =SUM(D5:G5) -> 1029.5477 | I5: =DryMass!I5*0.471 -> 4672.5698 | J5: =DryMass!J5*0.471 -> 1351.715 | K5: =DryMass!K5*0.463 -> 195.01214 | L5: =DryMass!L5*0.457 -> 50.851495
A6: 1998 | B6: 2 | C6: E | D6: =DryMass!D6*0.471 -> 700.45176 | E6: =DryMass!E6*0.471 -> 65.323215 | F6: =DryMass!F6*0.463 -> 193.53456 | G6: =DryMass!G6*0.457 -> 79.908024 | H6: =SUM(D6:G6) -> 1039.2176 | I6: =DryMass!I6*0.471 -> 4224.0931 | J6: =DryMass!J6*0.471 -> 1364.7123 | K6: =DryMass!K6*0.463 -> 234.31855 | L6: =DryMass!L6*0.457 -> 47.06612
A7: 1998 | B7: 3 | C7: A | D7: =DryMass!D7*0.471 -> 511.16688 | E7: =DryMass!E7*0.471 -> 52.831978 | F7: =DryMass!F7*0.463 -> 154.34635 | G7: =DryMass!G7*0.457 -> 105.43189 | H7: =SUM(D7:G7) -> 823.7771 | I7: =DryMass!I7*0.471 -> 3935.022 | J7: =DryMass!J7*0.471 -> 1434.6571 | K7: =DryMass!K7*0.463 -> 187.53752 | L7: =DryMass!L7*0.457 -> 61.620099
A8: 1998 | B8: 4 | C8: A | D8: =DryMass!D8*0.471 -> 566.85779 | E8: =DryMass!E8*0.471 -> 53.004827 | F8: =DryMass!F8*0.463 -> 170.50784 | G8: =DryMass!G8*0.457 -> 84.742478 | H8: =SUM(D8:G8) -> 875.11293 | I8: =DryMass!I8*0.471 -> 4295.0275 | J8: =DryMass!J8*0.471 -> 1390.1992 | K8: =DryMass!K8*0.463 -> 207.39372 | L8: =DryMass!L8*0.457 -> 37.805261
A9: 1998 | B9: 5 | C9: A | D9: =DryMass!D9*0.471 -> 534.8616 | E9: =DryMass!E9*0.471 -> 51.41582 | F9: =DryMass!F9*0.463 -> 176.87214 | G9: =DryMass!G9*0.457 -> 25.672982 | H9: =SUM(D9:G9) -> 788.82254 | I9: =DryMass!I9*0.471 -> 4314.7944 | J9: =DryMass!J9*0.471 -> 1505.2377 | K9: =DryMass!K9*0.463 -> 233.3056 | L9: =DryMass!L9*0.457 -> 16.804859
A10: 1999 | B10: 1 | C10: E | D10: =DryMass!D10*0.471 -> 573.66577 | E10: =DryMass!E10*0.471 -> 46.164263 | F10: =DryMass!F10*0.463 -> 220.03292 | G10: =DryMass!G10*0.457 -> 134.91997 | H10: =SUM(D10:G10) -> 974.78292 | I10: =DryMass!I10*0.471 -> 5019.0859 | J10: =DryMass!J10*0.471 -> 1375.7027 | K10: =DryMass!K10*0.463 -> 209.94984 | L10: =DryMass!L10*0.457 -> 83.248853
A11: 1999 | B11: 2 | C11: E | D11: =DryMass!D11*0.471 -> 599.88177 | E11: =DryMass!E11*0.471 -> 50.834145 | F11: =DryMass!F11*0.463 -> 245.0402 | G11: =DryMass!G11*0.457 -> 126.72515 | H11: =SUM(D11:G11) -> 1022.4813 | I11: =DryMass!I11*0.471 -> 4756.6911 | J11: =DryMass!J11*0.471 -> 1386.2353 | K11: =DryMass!K11*0.463 -> 212.22978 | L11: =DryMass!L11*0.457 -> 62.695144
A12: 1999 | B12: 3 | C12: A | D12: =DryMass!D12*0.471 -> 502.01855 | E12: =DryMass!E12*0.471 -> 44.135997 | F12: =DryMass!F12*0.463 -> 193.75812 | G12: =DryMass!G12*0.457 -> 57.749845 | H12: =SUM(D12:G12) -> 797.66251 | I12: =DryMass!I12*0.471 -> 4292.861 | J12: =DryMass!J12*0.471 -> 1482.9685 | K12: =DryMass!K12*0.463 -> 233.32008 | L12: =DryMass!L12*0.457 -> 43.806339
A13: 1999 | B13: 4 | C13: A | D13: =DryMass!D13*0.471 -> 565.73723 | E13: =DryMass!E13*0.471 -> 45.76132 | F13: =DryMass!F13*0.463 -> 214.36836 | G13: =DryMass!G13*0.457 -> 178.73691 | H13: =SUM(D13:G13) -> 1004.6038 | I13: =DryMass!I13*0.471 -> 4879.1011 | J13: =DryMass!J13*0.471 -> 1401.3146 | K13: =DryMass!K13*0.463 -> 226.10579 | L13: =DryMass!L13*0.457 -> 127.21816
A14: 1999 | B14: 5 | C14: A | D14: =DryMass!D14*0.471 -> 465.33046 | E14: =DryMass!E14*0.471 -> 46.329277 | F14: =DryMass!F14*0.463 -> 204.72504 | G14: =DryMass!G14*0.457 -> 91.173039 | H14: =SUM(D14:G14) -> 807.55781 | I14: =DryMass!I14*0.471 -> 4586.8381 | J14: =DryMass!J14*0.471 -> 1535.0597 | K14: =DryMass!K14*0.463 -> 178.11411 | L14: =DryMass!L14*0.457 -> 43.910411
A15: 2000 | B15: 1 | C15: E | D15: =DryMass!D15*0.471 -> 618.10794 | E15: =DryMass!E15*0.471 -> 50.600179 | F15: =DryMass!F15*0.463 -> 243.69791 | G15: =DryMass!G15*0.457 -> 320.37223 | H15: =SUM(D15:G15) -> 1232.7783 | I15: =DryMass!I15*0.471 -> 5421.8032 | J15: =DryMass!J15*0.471 -> 1415.1482 | K15: =DryMass!K15*0.463 -> 246.03872 | L15: =DryMass!L15*0.457 -> 91.571653
A16: 2000 | B16: 2 | C16: E | D16: =DryMass!D16*0.471 -> 701.95234 | E16: =DryMass!E16*0.471 -> 54.954452 | F16: =DryMass!F16*0.463 -> 242.33491 | G16: =DryMass!G16*0.457 -> 169.75083 | H16: =SUM(D16:G16) -> 1168.9925 | I16: =DryMass!I16*0.471 -> 5386.883 | J16: =DryMass!J16*0.471 -> 1441.1898 | K16: =DryMass!K16*0.463 -> 256.5516 | L16: =DryMass!L16*0.457 -> 58.399805
... A59: 2008 | B59: 5 | C59: A | D59: =DryMass!D59*0.471 -> 179.61322 | E59: =DryMass!E59*0.471 -> 14.399843 | F59: =DryMass!F59*0.463 -> 190.15552 | G59: =DryMass!G59*0.457 -> 64.841006 | H59: =SUM(D59:G59) -> 449.00959 | I59: =DryMass!I59*0.471 -> 7667.4941 | J59: =DryMass!J59*0.471 -> 1765.6662 | K59: =DryMass!K59*0.463 -> 179.9218 | L59: =DryMass!L59*0.457 -> 94.6447
D62: Data
B63: year | C63: CO2 | D63: Average of GWc | E63: Average of GCRc | F63: Average of GLc | G63: Average of GFRc | H63: Average of NPPc | I63: Average of CW | J63: Average of CCR | K63: Average of CL | L63: Average of CFR
B64: 1998 | C64: A | D64: 537.62876 | E64: 52.417542 | F64: 167.24211 | G64: 71.949118 | H64: 829.23753 | I64: 4162.789 | J64: 1443.3647 | K64: 209.41228 | L64: 38.743406
C65: E | D65: 712.94198 | E65: 62.637313 | F65: 180.53709 | G65: 78.266246 | H65: 1034.3826 | I65: 4422.8983 | J65: 1358.2136 | K65: 214.66535 | L65: 48.958807
B66: 1999 | C66: A | D66: 511.02874 | E66: 45.408865 | F66: 204.28384 | G66: 109.21993 | H66: 869.94138 | I66: 4576.0101 | J66: 1473.1143 | K66: 212.51333 | L66: 71.644969
C67: E | D67: 586.77377 | E67: 48.499204 | F67: 232.53656 | G67: 130.82256 | H67: 998.63209 | I67: 4837.2741 | J67: 1380.969 | K67: 211.08981 | L67: 72.971999
B68: 2000 | C68: A | D68: 608.82672 | E68: 48.989431 | F68: 218.40505 | G68: 123.59028 | H68: 999.81149 | I68: 5142.0057 | J68: 1508.2224 | K68: 224.90663 | L68: 31.620045
C69: E | D69: 660.03014 | E69: 52.777315 | F69: 243.01641 | G69: 245.06153 | H69: 1200.8854 | I69: 5398.2599 | J69: 1428.169 | K69: 251.29516 | L69: 74.985729
B70: 2001 | C70: A | D70: 581.66021 | E70: 46.811525 | F70: 213.40956 | G70: 189.16376 | H70: 1031.0451 | I70: 5816.2324 | J70: 1533.9133 | K70: 198.52476 | L70: 142.04864
C71: E | D71: 621.75249 | E71: 50.4791 | F71: 225.24071 | G71: 389.59847 | H71: 1287.0708 | I71: 6036.9789 | J71: 1461.7969 | K71: 237.81561 | L71: 351.16946
B72: 2002 | C72: A | D72: 544.48968 | E72: 41.806677 | F72: 215.54894 | G72: 111.97178 | H72: 913.81708 | I72: 6255.8243 | J72: 1567.1286 | K72: 222.90452 | L72: 79.967738
C73: E | D73: 570.5223 | E73: 45.628958 | F73: 228.10211 | G73: 366.38971 | H73: 1210.6431 | I73: 6227.3495 | J73: 1496.4158 | K73: 232.88837 | L73: 275.3577
B74: 2003 | C74: A | D74: 658.3167 | E74: 46.078689 | F74: 221.36529 | G74: 68.040548 | H74: 993.80122 | I74: 6955.1079 | J74: 1601.4261 | K74: 236.11034 | L74: 63.747453
C75: E | D75: 703.7682 | E75: 51.193318 | F75: 222.57092 | G75: 144.63605 | H75: 1122.1685 | I75: 7227.5654 | J75: 1542.5031 | K75: 226.21667 | L75: 186.20371
B76: 2004 | C76: A | D76: 486.5587 | E76: 34.418138 | F76: 210.99682 | G76: 95.572446 | H76: 827.5461 | I76: 7686.9119 | J76: 1631.1215 | K76: 206.32788 | L76: 116.43895
C77: E | D77: 557.47149 | E77: 37.188024 | F77: 221.38096 | G77: 170.10417 | H77: 986.14464 | I77: 8000.9323 | J77: 1579.6932 | K77: 210.48433 | L77: 240.12374
B78: 2005 | C78: A | D78: 448.15267 | E78: 30.005574 | F78: 230.39592 | G78: 43.998172 | H78: 752.55234 | I78: 7829.2208 | J78: 1660.9144 | K78: 225.08288 | L78: 48.851622
C79: E | D79: 435.09954 | E79: 30.383498 | F79: 256.82254 | G79: 156.02037 | H79: 878.32595 | I79: 8132.3532 | J79: 1609.93 | K79: 263.80461 | L79: 163.83013
B80: 2006 | C80: A | D80: 353.15104 | E80: 23.178641 | F80: 206.93607 | G80: 46.514761 | H80: 629.78051 | I80: 8409.6777 | J80: 1684.5734 | K80: 230.95364 | L80: 37.449068
C81: E | D81: 333.36487 | E81: 21.660223 | F81: 229.00692 | G81: 115.88632 | H81: 699.91834 | I81: 8256.0083 | J81: 1631.7352 | K81: 271.71294 | L81: 113.07702
B82: 2007 | C82: A | D82: 350.13164 | E82: 23.227391 | F82: 207.28391 | G82: 62.821742 | H82: 643.46468 | I82: 8843.0653 | J82: 1707.8008 | K82: 240.19541 | L82: 58.211927
C83: E | D83: 345.567 | E83: 22.933256 | F83: 221.9533 | G83: 108.08195 | H83: 698.5355 | I83: 8913.8265 | J83: 1642.7969 | K83: 257.70651 | L83: 124.0227
B84: 2008 | C84: A | D84: 264.08749 | E84: 18.95838 | F84: 194.11833 | G84: 49.723496 | H84: 526.8877 | I84: 8704.1026 | J84: 1722.6537 | K84: 188.2558 | L84: 48.731433
C85: E | D85: 303.71325 | E85: 16.506114 | F85: 202.89693 | G85: 51.276231 | H85: 574.39253 | I85: 8864.2049 | J85: 1659.303 | K85: 210.59555 | L85: 86.03025
...

Sheet LAI
E2: CANOPY
D3: m2/m2 | E3: m2-day/m2 | F3: g DM/m2 | G3: gC/m2 | H3: MJ/m2/yr
A4: year | B4: plot | C4: CO2 | D4: LAI | E4: LAD | F4: LMAdm | G4: LMAc | H4: APAR
A5: 1998 | B5: 1 | C5: E | D5: 4.804 | E5: 601.8 | F5: 87.675381 | G5: 40.593701
A6: 1998 | B6: 2 | C6: E | D6: 6.155 | E6: 896.1 | F6: 82.223814 | G6: 38.069626
A7: 1998 | B7: 3 | C7: A | D7: 4.947 | E7: 712.6 | F7: 81.877632 | G7: 37.909344
A8: 1998 | B8: 4 | C8: A | D8: 5.618 | E8: 716.1 | F8: 79.732041 | G8: 36.915935
A9: 1998 | B9: 5 | C9: A | D9: 6.948 | E9: 1042.9 | F9: 72.524436 | G9: 33.578814
A10: 1999 | B10: 1 | C10: E | D10: 5.584 | E10: 729.9 | F10: 81.206194 | G10: 37.598468 | H10: 1314.8461
A11: 1999 | B11: 2 | C11: E | D11: 6.107 | E11: 784.1 | F11: 75.058074 | G11: 34.751888 | H11: 1328.3874
A12: 1999 | B12: 3 | C12: A | D12: 5.472 | E12: 722.8 | F12: 92.092664 | G12: 42.638904 | H12: 1271.6809
A13: 1999 | B13: 4 | C13: A | D13: 6.307 | E13: 827.1 | F13: 77.429751 | G13: 35.849975 | H13: 1303.9026
A14: 1999 | B14: 5 | C14: A | D14: 5.186 | E14: 708.8 | F14: 74.179659 | G14: 34.345182 | H14: 1358.7689
A15: 2000 | B15: 1 | C15: E | D15: 6.2187908 | E15: 839.76302 | F15: 85.450877 | G15: 39.563756 | H15: 1258.1623
A16: 2000 | B16: 2 | C16: E | D16: 6.3736833 | E16: 913.89078 | F16: 86.936722 | G16: 40.251702 | H16: 1288.1036
A17: 2000 | B17: 3 | C17: A | D17: 5.479 | E17: 750.9 | F17: 88.681258 | G17: 41.059423 | H17: 1239.2166
A18: 2000 | B18: 4 | C18: A | D18: 5.95 | E18: 841.7 | F18: 79.026824 | G18: 36.58942 | H18: 1257.9971
A19: 2000 | B19: 5 | C19: A | D19: 6.0656173 | E19: 836.8784 | F19: 82.62707 | G19: 38.256333 | H19: 1287.7884
A20: 2001 | B20: 1 | C20: E | D20: 6.006 | E20: 844.07 | F20: 88.824474 | G20: 41.125732 | H20: 1108.1115
A21: 2001 | B21: 2 | C21: E | D21: 6.154 | E21: 900.18 | F21: 80.240733 | G21: 37.151459 | H21: 1134.2419
... A34: 2003 | B34: 5 | C34: A | D34: 5.19004 | E34: 774.85691 | F34: 93.780944 | G34: 43.420577 | H34: 1294.9003
A35: 2004 | B35: 1 | C35: E | D35: 4.6660101 | E35: 674.44075 | F35: 95.718037 | G35: 44.317451
A36: 2004 | B36: 2 | C36: E | D36: 4.9131056 | E36: 718.80858 | F36: 94.155977 | G36: 43.594217
A37: 2004 | B37: 3 | C37: A | D37: 4.5644508 | E37: 640.75286 | F37: 102.70668 | G37: 47.553194
A38: 2004 | B38: 4 | C38: A | D38: 5.5166643 | E38: 756.75131 | F38: 82.051822 | G38: 37.989993
A39: 2004 | B39: 5 | C39: A | D39: 4.4986137 | E39: 625.23032 | F39: 92.34973 | G39: 42.757925
A40: 2005 | B40: 1 | C40: E | D40: 5.6916712 | E40: 807.28993 | F40: 99.635369 | G40: 46.131176
A41: 2005 | B41: 2 | C41: E | D41: 7.3514544 | E41: 1053.1987 | F41: 77.869351 | G41: 36.05351
A42: 2005 | B42: 3 | C42: A | D42: 5.456581 | E42: 814.44714 | F42: 101.93373 | G42: 47.195316
A43: 2005 | B43: 4 | C43: A | D43: 6.4651235 | E43: 919.42429 | F43: 72.447419 | G43: 33.543155
A44: 2005 | B44: 5 | C44: A | D44: 5.2162262 | E44: 734.09148 | F44: 83.169176 | G44: 38.507329
A45: 2006 | B45: 1 | C45: E | D45: 5.8878125 | E45: 885.54281 | F45: 98.31406 | G45: 45.51941
A46: 2006 | B46: 2 | C46: E | D46: 6.3168629 | E46: 964.5287 | F46: 94.168775 | G46: 43.600143
... A59: 2008 | B59: 5 | C59: A | D59: 3.942 | E59: 520.9 | F59: 98.579401 | G59: 45.642263
D63: Data
B64: year | C64: CO2 | D64: Average of LAI | E64: Average of LAD | F64: Average of LMAdm | G64: Average of LMAc | H64: Average of APAR
B65: 1998 | C65: A | D65: 5.8376667 | E65: 823.86667 | F65: 78.044703 | G65: 36.134698
C66: E | D66: 5.4795 | E66: 748.95 | F66: 84.949598 | G66: 39.331664
B67: 1999 | C67: A | D67: 5.655 | E67: 752.9 | F67: 81.234025 | G67: 37.611353 | H67: 1311.4508
C68: E | D68: 5.8455 | E68: 757 | F68: 78.132134 | G68: 36.175178 | H68: 1321.6168
...

Sheet LitterInputs
E2: DRY MATTER | H2: CARBON | J2: NITROGEN
D3: g DM/m2/yr | G3: g C/m2/yr | J3: gN/m2/yr
A4: year | B4: plot | C4: CO2 | D4: LLFALLdm | E4: FRLINdm | F4: WINdm | G4: LLFALLc | H4: FRLINc | I4: WINc | J4: N_LLITIN | K4: N_FRLITIN
A5: 1998 | B5: 1 | C5: E | D5: 361.85663 | E5: 98.144921 | F5: 137.11575 | G5: =D5*0.463 -> 167.53962 | H5: =E5*0.457 -> 44.852229 | I5: =F5*0.471 -> 64.581519 | J5: 3.1553898 | K5: 0.63461303
A6: 1998 | B6: 2 | C6: E | D6: 418.0012 | E6: 137.40301 | F6: 197.90642 | G6: =D6*0.463 -> 193.53456 | H6: =E6*0.457 -> 62.793174 | I6: =F6*0.471 -> 93.213924 | J6: 3.5822703 | K6: 0.97893856
A7: 1998 | B7: 3 | C7: A | D7: 333.36145 | E7: 199.12403 | F7: 267.3381 | G7: =D7*0.463 -> 154.34635 | H7: =E7*0.457 -> 90.99968 | I7: =F7*0.471 -> 125.91624 | J7: 3.2869439 | K7: 1.4624174
A8: 1998 | B8: 4 | C8: A | D8: 368.26747 | E8: 104.60175 | F8: 240.18882 | G8: =D8*0.463 -> 170.50784 | H8: =E8*0.457 -> 47.803 | I8: =F8*0.471 -> 113.12893 | J8: 3.6421653 | K8: 0.73804522
A9: 1998 | B9: 5 | C9: A | D9: 382.01325 | E9: 62.733373 | F9: 125.92491 | G9: =D9*0.463 -> 176.87214 | H9: =E9*0.457 -> 28.669152 | I9: =F9*0.471 -> 59.310632 | J9: 3.6214856 | K9: 0.49144964
A10: 1999 | B10: 1 | C10: E | D10: 475.23309 | E10: 285.60798 | F10: 197.54341 | G10: =D10*0.463 -> 220.03292 | H10: =E10*0.457 -> 130.52285 | I10: =F10*0.471 -> 93.042948 | J10: 3.4413664 | K10: 1.8390019
A11: 1999 | B11: 2 | C11: E | D11: 529.24449 | E11: 245.88693 | F11: 434.52708 | G11: =D11*0.463 -> 245.0402 | H11: =E11*0.457 -> 112.37033 | I11: =F11*0.471 -> 204.66226 | J11: 4.0494764 | K11: 1.5114215
A12: 1999 | B12: 3 | C12: A | D12: 418.48406 | E12: 146.55988 | F12: 54.285714 | G12: =D12*0.463 -> 193.75812 | H12: =E12*0.457 -> 66.977866 | I12: =F12*0.471 -> 25.568571 | J12: 3.5057007 | K12: 1.121027
A13: 1999 | B13: 4 | C13: A | D13: 462.99861 | E13: 356.80004 | F13: 575.26878 | G13: =D13*0.463 -> 214.36836 | H13: =E13*0.457 -> 163.05762 | I13: =F13*0.471 -> 270.9516 | J13: 3.7621944 | K13: 2.3307783
A14: 1999 | B14: 5 | C14: A | D14: 442.17071 | E14: 171.55731 | F14: 235.82895 | G14: =D14*0.463 -> 204.72504 | H14: =E14*0.457 -> 78.401691 | I14: =F14*0.471 -> 111.07544 | J14: 3.6573835 | K14: 1.1359997
A15: 2000 | B15: 1 | C15: E | D15: 526.34538 | E15: 349.76362 | F15: 364.23057 | G15: =D15*0.463 -> 243.69791 | H15: =E15*0.457 -> 159.84198 | I15: =F15*0.471 -> 171.5526 | J15: 3.9671404 | K15: 2.3553394
A16: 2000 | B16: 2 | C16: E | D16: 523.40154 | E16: 151.86543 | F16: 270.35714 | G16: =D16*0.463 -> 242.33491 | H16: =E16*0.457 -> 69.402501 | I16: =F16*0.471 -> 127.33821 | J16: 4.1401062 | K16: 1.0051896
... A59: 2008 | B59: 5 | C59: A | D59: 410.70308 | E59: 198.7 | F59: 12.925824 | G59: =D59*0.463 -> 190.15552 | H59: =E59*0.457 -> 90.8059 | I59: =F59*0.471 -> 6.0880632 | J59: 2.5637627 | K59: 1.49
F62: Data
D63: year | E63: CO2 | F63: Average of DMLLFALL | G63: Average of DMRLIN | H63: Average of DMWIN | I63: Average of CLLFALL | J63: Average of CRLIN | K63: Average of CWIN | L63: Average of NLLITIN | M63: Average of NRLITIN
D64: 1998 | E64: A | F64: 361.21406 | G64: 122.15305 | H64: 211.15061 | I64: 167.24211 | J64: 55.823944 | K64: 99.451936 | L64: 3.5168649 | M64: 0.89730408
E65: E | F65: 389.92892 | G65: 117.77396 | H65: 167.51109 | I65: 180.53709 | J65: 53.822701 | K65: 78.897721 | L65: 3.3688301 | M65: 0.80677579
D66: 1999 | E66: A | F66: 441.21779 | G66: 224.97241 | H66: 288.46115 | I66: 204.28384 | J66: 102.81239 | K66: 135.8652 | L66: 3.6417595 | M66: 1.5292683
E67: E | F67: 502.23879 | G67: 265.74746 | H67: 316.03525 | I67: 232.53656 | J67: 121.44659 | K67: 148.8526 | L67: 3.7454214 | M67: 1.6752117
D68: 2000 | E68: A | F68: 471.71718 | G68: 143.62564 | H68: 297.26714 | I68: 218.40505 | J68: 65.636917 | K68: 140.01282 | L68: 4.082336 | M68: 0.95980998
E69: E | F69: 524.87346 | G69: 250.81453 | H69: 317.29386 | I69: 243.01641 | J69: 114.62224 | K69: 149.44541 | L69: 4.0536233 | M69: 1.6802645
D70: 2001 | E70: A | F70: 460.92778 | G70: 352.50452 | H70: 213.4073 | I70: 213.40956 | J70: 161.09457 | K70: 100.51484 | L70: 3.9407381 | M70: 2.1150062
E71: E | F71: 486.48103 | G71: 572.60317 | H71: 204.7182 | I71: 225.24071 | J71: 261.67965 | K71: 96.422271 | L71: 3.7208469 | M71: 3.4053823
D72: 2002 | E72: A | F72: 465.54846 | G72: 198.59726 | H72: 192.88952 | I72: 215.54894 | J72: 90.758948 | K72: 90.850962 | L72: 3.5792379 | M72: 1.3606344
E73: E | F73: 492.66115 | G73: 564.03911 | H73: 340.88315 | I73: 228.10211 | J73: 257.76587 | K73: 160.55596 | L73: 3.2078821 | M73: 3.2766635
D74: 2003 | E74: A | F74: 478.11077 | G74: 152.17775 | H74: 158.04156 | I74: 221.36529 | J74: 69.545233 | K74: 74.437574 | L74: 3.5101173 | M74: 1.2228222
E75: E | F75: 480.71473 | G75: 340.68576 | H75: 95.533768 | I75: 222.57092 | J75: 155.69339 | K75: 44.996405 | L75: 2.9854053 | M75: 2.4558125
D76: 2004 | E76: A | F76: 455.71667 | G76: 255.04202 | H76: 166.96353 | I76: 210.99682 | J76: 116.5542 | K76: 78.639823 | L76: 4.1829122 | M76: 1.6820147
E77: E | F77: 478.14462 | G77: 509.67016 | H77: 101.08688 | I77: 221.38096 | J77: 232.91926 | K77: 47.611921 | L77: 3.727482 | M77: 3.5555868
D78: 2005 | E78: A | F78: 497.61538 | G78: 115.80007 | H78: 25.297619 | I78: 230.39592 | J78: 52.920631 | K78: 11.915179 | L78: 3.9710173 | M78: 0.90354819
E79: E | F79: 554.69231 | G79: 339.58473 | H79: 12.603022 | I79: 256.82254 | J79: 155.19022 | K79: 5.9360234 | L79: 3.8806222 | M79: 2.1920128
D80: 2006 | E80: A | F80: 446.94615 | G80: 63.417086 | H80: 48.580586 | I80: 206.93607 | J80: 28.981608 | K80: 22.881456 | L80: 2.7256915 | M80: 0.47933688
E81: E | F81: 494.61538 | G81: 161.90692 | H81: 98.214286 | I81: 229.00692 | J81: 73.991463 | K81: 46.258929 | L81: 2.569684 | M81: 1.1005944
D82: 2007 | E82: A | F82: 447.69744 | G82: 153.97288 | H82: 32.541209 | I82: 207.28391 | J82: 70.365607 | K82: 15.326909 | L82: 2.8262048 | M82: 1.049546
E83: E | F83: 479.38077 | G83: 267.49708 | H83: 222.21133 | I83: 221.9533 | J83: 122.24617 | K83: 104.66154 | L83: 2.6013103 | M83: 1.5870842
D84: 2008 | E84: A | F84: 419.26205 | G84: 132.9 | H84: 42.709072 | I84: 194.11833 | J84: 60.7353 | K84: 20.115973 | L84: 2.8700767 | M84: 0.91333333
E85: E | F85: 438.22231 | G85: 136.2 | H85: 24.024725 | I85: 202.89693 | J85: 62.2434 | K85: 11.315646 | L85: 2.6477333 | M85: 0.93
...

Sheet Nitrogen
A1: NW_dm corrected 12/12/11
E2: N content | I2: N in production | L2: N per DM | N2: C:N | Q2: CALCULATIONS
D3: gN/m2 | H3: gN/m2/yr | K3: gN/gDW | P3: gN/m2/yr | Q3: NPPdm/Ncontent | R3: NPPdm/NUP | S3: NPPc/Ncontent | T3: NPPc/NUP | U3: per year
A4: year | B4: plot | C4: CO2 | D4: NCAN | E4: NWOOD | F4: NCR | G4: NFR | H4: NGL | I4: NGW | J4: NGFR | K4: NL_dm | L4: NW_dm | M4: NFR_dm | N4: C_NL | O4: C_NFR | P4: NUP | Q4: Nproddm | R4: NUEdm | S4: Nprodc | T4: NUEc | U4: MRT
A5: 1998 | B5: 1 | C5: E | D5: 6.526789 | E5: 15.284141 | F5: 4.5622809 | G5: 0.6094425 | H5: 6.526789 | I5: 2.4552392 | J5: 1.0526724 | K5: =D5/DryMass!K5 -> 0.015495975 | L5: 0.001472424 | M5: =G5/DryMass!L5 -> 0.0054770312 | N5: =Carbon!K5/Nitrogen!D5 -> 29.878726 | O5: =Carbon!L5/Nitrogen!G5 -> 83.439365 | P5: =I5+LitterInputs!J5+J5+0.6 -> 7.2633014 | Q5: =DryMass!H5/(D5+E5+G5) -> 97.991512 | R5: =DryMass!H5/P5 -> 302.48038 | S5: =Carbon!H5/(D5+E5+G5) -> 45.920187 | T5: =Carbon!H5/P5 -> 141.74652 | U5: =T5/S5 -> 3.0868019
A6: 1998 | B6: 2 | C6: E | D6: 7.7316893 | E6: 13.845151 | F6: 4.6729087 | G6: 0.69702393 | H6: 7.7316893 | I6: 2.3719449 | J6: 1.2335407 | K6: =D6/DryMass!K6 -> 0.015277374 | L6: 0.001458896 | M6: =G6/DryMass!L6 -> 0.0067679243 | N6: =Carbon!K6/Nitrogen!D6 -> 30.306255 | O6: =Carbon!L6/Nitrogen!G6 -> 67.524396 | P6: =I6+LitterInputs!J6+J6+0.6 -> 7.7877559 | Q6: =DryMass!H6/(D6+E6+G6) -> 99.61019 | R6: =DryMass!H6/P6 -> 284.89643 | S6: =Carbon!H6/(D6+E6+G6) -> 46.656366 | T6: =Carbon!H6/P6 -> 133.44249 | U6: =T6/S6 -> 2.8601133
A7: 1998 | B7: 3 | C7: A | D7: 6.5128779 | E7: 12.13965 | F7: 4.5577909 | G7: 0.96188379 | H7: 6.5128779 | I7: 1.6287127 | J7: 1.6858436 | K7: =D7/DryMass!K7 -> 0.016079249 | L7: 0.001359792 | M7: =G7/DryMass!L7 -> 0.0071337258 | N7: =Carbon!K7/Nitrogen!D7 -> 28.794878 | O7: =Carbon!L7/Nitrogen!G7 -> 64.061896 | P7: =I7+LitterInputs!J7+J7+0.6 -> 7.2015001 | Q7: =DryMass!H7/(D7+E7+G7) -> 89.807214 | R7: =DryMass!H7/P7 -> 244.60398 | S7: =Carbon!H7/(D7+E7+G7) -> 41.998564 | T7: =Carbon!H7/P7 -> 114.38965 | U7: =T7/S7 -> 2.7236563
A8: 1998 | B8: 4 | C8: A | D8: 8.4763999 | E8: 16.187602 | F8: 5.4148246 | G8: 0.5332255 | H8: 8.4763999 | I8: 2.198046 | J8: 1.2341843 | K8: =D8/DryMass!K8 -> 0.018923298 | L8: 0.001670176 | M8: =G8/DryMass!L8 -> 0.006445771 | N8: =Carbon!K8/Nitrogen!D8 -> 24.467194 | O8: =Carbon!L8/Nitrogen!G8 -> 70.899199 | P8: =I8+LitterInputs!J8+J8+0.6 -> 7.6743956 | Q8: =DryMass!H8/(D8+E8+G8) -> 74.204834 | R8: =DryMass!H8/P8 -> 243.63562 | S8: =Carbon!H8/(D8+E8+G8) -> 34.730525 | T8: =Carbon!H8/P8 -> 114.03021 | U8: =T8/S8 -> 3.283285
A9: 1998 | B9: 5 | C9: A | D9: 8.3351464 | E9: 8.0697093 | F9: 2.9529448 | G9: 0.25287372 | H9: 8.3351464 | I9: 1.0517742 | J9: 0.42776711 | K9: =D9/DryMass!K9 -> 0.016541278 | L9: 0.000844968 | M9: =G9/DryMass!L9 -> 0.0068767782 | N9: =Carbon!K9/Nitrogen!D9 -> 27.990582 | O9: =Carbon!L9/Nitrogen!G9 -> 66.455538 | P9: =I9+LitterInputs!J9+J9+0.6 -> 5.701027 | Q9: =DryMass!H9/(D9+E9+G9) -> 101.03063 | R9: =DryMass!H9/P9 -> 295.19959 | S9: =Carbon!H9/(D9+E9+G9) -> 47.354746 | T9: =Carbon!H9/P9 -> 138.36499 | U9: =T9/S9 -> 2.9218822
A10: 1999 | B10: 1 | C10: E | D10: 6.7758815 | E10: 17.077515 | F10: 4.706598 | G10: 1.1768382 | H10: 6.7758815 | I10: 1.9376913 | J10: 1.901719 | K10: =D10/DryMass!K10 -> 0.014942774 | L10: 0.001472424 | M10: =G10/DryMass!L10 -> 0.0064603298 | N10: =Carbon!K10/Nitrogen!D10 -> 30.984876 | O10: =Carbon!L10/Nitrogen!G10 -> 70.739422 | P10: =D10-D5+LitterInputs!J5+J10+Nitrogen!I10+0.6 -> 7.8438925 | Q10: =DryMass!H10/(D10+E10+G10) -> 83.357193 | R10: =DryMass!H10/P10 -> 265.99677 | S10: =Carbon!H10/(D10+E10+G10) -> 38.944218 | T10: =Carbon!H10/P10 -> 124.27286 | U10: =T10/S10 -> 3.1910476
A11: 1999 | B11: 2 | C11: E | D11: 7.0147818 | E11: 15.703251 | F11: 4.8303646 | G11: 0.88295568 | H11: 7.0147818 | I11: 2.0155559 | J11: 1.6929136 | K11: =D11/DryMass!K11 -> 0.015303432 | L11: 0.001458896 | M11: =G11/DryMass!L11 -> 0.0064360765 | N11: =Carbon!K11/Nitrogen!D11 -> 30.254652 | O11: =Carbon!L11/Nitrogen!G11 -> 71.005992 | P11: =D11-D6+LitterInputs!J6+J11+Nitrogen!I11+0.6 -> 7.1738324 | Q11: =DryMass!H11/(D11+E11+G11) -> 92.712424 | R11: =DryMass!H11/P11 -> 305.01199 | S11: =Carbon!H11/(D11+E11+G11) -> 43.323663 | T11: =Carbon!H11/P11 -> 142.52929 | U11: =T11/S11 -> 3.2898718
A12: 1999 | B12: 3 | C12: A | D12: 8.7144645 | E12: 13.588992 | F12: 4.6852129 | G12: 0.70107555 | H12: 8.7144645 | I12: 1.5767649 | J12: 0.95869847 | K12: =D12/DryMass!K12 -> 0.01729297 | L12: 0.001359792 | M12: =G12/DryMass!L12 -> 0.0073138165 | N12: =Carbon!K12/Nitrogen!D12 -> 26.773886 | O12: =Carbon!L12/Nitrogen!G12 -> 62.484477 | P12: =D12-D7+LitterInputs!J7+J12+Nitrogen!I12+0.6 -> 8.6239938 | Q12: =DryMass!H12/(D12+E12+G12) -> 74.090405 | R12: =DryMass!H12/P12 -> 197.6364 | S12: =Carbon!H12/(D12+E12+G12) -> 34.674146 | T12: =Carbon!H12/P12 -> 92.4934 | U12: =T12/S12 -> 2.6675034
A13: 1999 | B13: 4 | C13: A | D13: 9.0111488 | E13: 18.193718 | F13: 5.5770952 | G13: 1.8028324 | H13: 9.0111488 | I13: 2.1683868 | J13: 2.5437939 | K13: =D13/DryMass!K13 -> 0.018452256 | L13: 0.001670176 | M13: =G13/DryMass!L13 -> 0.006476233 | N13: =Carbon!K13/Nitrogen!D13 -> 25.091783 | O13: =Carbon!L13/Nitrogen!G13 -> 70.565713 | P13: =D13-D8+LitterInputs!J8+J13+Nitrogen!I13+0.6 -> 9.4890949 | Q13: =DryMass!H13/(D13+E13+G13) -> 74.201204 | R13: =DryMass!H13/P13 -> 226.82946 | S13: =Carbon!H13/(D13+E13+G13) -> 34.632316 | T13: =Carbon!H13/P13 -> 105.8693 | U13: =T13/S13 -> 3.0569512
A14: 1999 | B14: 5 | C14: A | D14: 6.404181 | E14: 8.9045062 | F14: 3.0360589 | G14: 0.6030119 | H14: 6.404181 | I14: 0.91791104 | J14: 1.2920233 | K14: =D14/DryMass!K14 -> 0.016647394 | L14: 0.000844968 | M14: =G14/DryMass!L14 -> 0.0062758793 | N14: =Carbon!K14/Nitrogen!D14 -> 27.812161 | O14: =Carbon!L14/Nitrogen!G14 -> 72.818482 | P14: =D14-D9+LitterInputs!J9+J14+Nitrogen!I14+0.6 -> 4.5004547 | Q14: =DryMass!H14/(D14+E14+G14) -> 108.59937 | R14: =DryMass!H14/P14 -> 383.96131 | S14: =Carbon!H14/(D14+E14+G14) -> 50.752456 | T14: =Carbon!H14/P14 -> 179.43916 | U14: =T14/S14 -> 3.5355759
A15: 2000 | B15: 1 | C15: E | D15: 7.922291 | E15: 18.707859 | F15: 4.8400628 | G15: 1.3388292 | H15: 7.922291 | I15: 1.7638084 | J15: 4.0067465 | K15: =D15/DryMass!K15 -> 0.014908307 | L15: 0.0012423264 | M15: =G15/DryMass!L15 -> 0.0066815975 | N15: =Carbon!K15/Nitrogen!D15 -> 31.056512 | O15: =Carbon!L15/Nitrogen!G15 -> 68.396817 | P15: =D15-D10+LitterInputs!J10+J15+Nitrogen!I15+0.6 -> 10.958331 | Q15: =DryMass!H15/(D15+E15+G15) -> 94.645614 | R15: =DryMass!H15/P15 -> 241.56427 | S15: =Carbon!H15/(D15+E15+G15) -> 44.076628 | T15: =Carbon!H15/P15 -> 112.4969 | U15: =T15/S15 -> 2.5523028
A16: 2000 | B16: 2 | C16: E | D16: 8.0782308 | E16: 17.370439 | F16: 4.9608854 | G16: 0.7597314 | H16: 8.0782308 | I16: 1.7977086 | J16: 1.8641058 | K16: =D16/DryMass!K16 -> 0.014578825 | L16: 0.0011186592 | M16: =G16/DryMass!L16 -> 0.0059451783 | N16: =Carbon!K16/Nitrogen!D16 -> 31.75839 | O16: =Carbon!L16/Nitrogen!G16 -> 76.869015 | P16: =D16-D11+LitterInputs!J11+J16+Nitrogen!I16+0.6 -> 9.3747397 | Q16: =DryMass!H16/(D16+E16+G16) -> 95.460549 | R16: =DryMass!H16/P16 -> 266.87337 | S16: =Carbon!H16/(D16+E16+G16) -> 44.603733 | T16: =Carbon!H16/P16 -> 124.696 | U16: =T16/S16 -> 2.7956404
A17: 2000 | B17: 3 | C17: A | D17: 7.6450709 | E17: 15.196152 | F17: 4.8073188 | G17: 0.41639462 | H17: 7.6450709 | I17: 1.7292652 | J17: 0.70146595 | K17: =D17/DryMass!K17 -> 0.015734334 | L17: 0.00123918 | M17: =G17/DryMass!L17 -> 0.0065773443 | N17: =Carbon!K17/Nitrogen!D17 -> 29.426094 | O17: =Carbon!L17/Nitrogen!G17 -> 69.48093 | P17: =D17-D12+LitterInputs!J12+J17+Nitrogen!I17+0.6 -> 5.4670383 | Q17: =DryMass!H17/(D17+E17+G17) -> 84.064951 | R17: =DryMass!H17/P17 -> 357.62516 | S17: =Carbon!H17/(D17+E17+G17) -> 39.377382 | T17: =Carbon!H17/P17 -> 167.51741 | U17: =T17/S17 -> 4.254153
A18: 2000 | B18: 4 | C18: A | D18: 8.4305005 | E18: 20.286604 | F18: 5.7412856 | G18: 0.65188261 | H18: 8.4305005 | I18: 2.2570759 | J18: 1.6472273 | K18: =D18/DryMass!K18 -> 0.017929239 | L18: 0.001465128 | M18: =G18/DryMass!L18 -> 0.0066659325 | N18: =Carbon!K18/Nitrogen!D18 -> 25.823739 | O18: =Carbon!L18/Nitrogen!G18 -> 68.55755 | P18: =D18-D13+LitterInputs!J13+J18+Nitrogen!I18+0.6 -> 7.6858493 | Q18: =DryMass!H18/(D18+E18+G18) -> 77.618523 | R18: =DryMass!H18/P18 -> 296.59408 | S18: =Carbon!H18/(D18+E18+G18) -> 36.304007 | T18: =Carbon!H18/P18 -> 138.72402 | U18: =T18/S18 -> 3.8211765
A19: 2000 | B19: 5 | C19: A | D19: 8.2689555 | E19: 10.593529 | F19: 3.1847151 | G19: 0.34870864 | H19: 8.2689555 | I19: 1.8376793 | J19: 2.6271265 | K19: =D19/DryMass!K19 -> 0.016498836 | L19: 0.001465584 | M19: =G19/DryMass!L19 -> 0.0075038154 | N19: =Carbon!K19/Nitrogen!D19 -> 28.062586 | O19: =Carbon!L19/Nitrogen!G19 -> 60.902351 | P19: =D19-D14+LitterInputs!J14+J19+Nitrogen!I19+0.6 -> 10.586964 | Q19: =DryMass!H19/(D19+E19+G19) -> 113.56141 | R19: =DryMass!H19/P19 -> 206.06949 | S19: =Carbon!H19/(D19+E19+G19) -> 52.958628 | T19: =Carbon!H19/P19 -> 96.099172 | U19: =T19/S19 -> 1.8146084
A20: 2001 | B20: 1 | C20: E | D20: 7.8120844 | E20: 19.905022 | F20: 4.9379552 | G20: 5.8180866 | H20: 7.8120844 | I20: 1.2950556 | J20: 7.2705726 | K20: =D20/DryMass!K20 -> 0.014643637 | L20: 0.00097128 | M20: =G20/DryMass!L20 -> 0.0049038448 | N20: =Carbon!K20/Nitrogen!D20 -> 31.617829 | O20: =Carbon!L20/Nitrogen!G20 -> 93.192182 | P20: =D20-D15+LitterInputs!J15+J20+I20+0.6 -> 13.022562 | Q20: =DryMass!H20/(D20+E20+G20) -> 96.03519 | R20: =DryMass!H20/P20 -> 247.30607 | S20: =Carbon!H20/(D20+E20+G20) -> 44.535031 | T20: =Carbon!H20/P20 -> 114.68487 | U20: =T20/S20 -> 2.5751609
A21: 2001 | B21: 2 | C21: E | D21: 6.8441251 | E21: 18.93528 | F21: 5.087135 | G21: 1.7383223 | H21: 6.8441251 | I21: 1.6910908 | J21: 2.0461276 | K21: =D21/DryMass!K21 -> 0.013860074 | L21: 0.001111728 | M21: =G21/DryMass!L21 -> 0.0049607819 | N21: =Carbon!K21/Nitrogen!D21 -> 33.405304 | O21: =Carbon!L21/Nitrogen!G21 -> 92.122575 | P21: =D21-D16+LitterInputs!J16+J21+Nitrogen!I21+0.6 -> 7.2432189 | Q21: =DryMass!H21/(D21+E21+G21) -> 84.01552 | R21: =DryMass!H21/P21 -> 319.18353 | S21: =Carbon!H21/(D21+E21+G21) -> 39.271074 | T21: =Carbon!H21/P21 -> 149.19482 | U21: =T21/S21 -> 3.799102
A22: 2001 | B22: 3 | C22: A | D22: 6.4057387 | E22: 16.274884 | F22: 4.8900411 | G22: 0.50987682 | H22: 6.4057387 | I22: 1.161455 | J22: 0.69355212 | K22: =D22/DryMass!K22 -> 0.015341424 | L22: 0.00090592 | M22: =G22/DryMass!L22 -> 0.0071223768 | N22: =Carbon!K22/Nitrogen!D22 -> 30.179728 | O22: =Carbon!L22/Nitrogen!G22 -> 64.163974 | P22: =D22-D17+LitterInputs!J17+J22+Nitrogen!I22+0.6 -> 4.9845998 | Q22: =DryMass!H22/(D22+E22+G22) -> 80.234364 | R22: =DryMass!H22/P22 -> 373.28473 | S22: =Carbon!H22/(D22+E22+G22) -> 37.565957 | T22: =Carbon!H22/P22 -> 174.77297 | U22: =T22/S22 -> 4.6524296
A23: 2001 | B23: 4 | C23: A | D23: 7.8781139 | E23: 21.87777 | F23: 5.8683074 | G23: 1.5000211 | H23: 7.8781139 | I23: 1.7181879 | J23: 2.15026 | K23: =D23/DryMass!K23 -> 0.017352933 | L23: 0.001095312 | M23: =G23/DryMass!L23 -> 0.0061270378 | N23: =Carbon!K23/Nitrogen!D23 -> 26.681369 | O23: =Carbon!L23/Nitrogen!G23 -> 74.587429 | P23: =D23-D18+LitterInputs!J18+J23+Nitrogen!I23+0.6 -> 8.1715109 | Q23: =DryMass!H23/(D23+E23+G23) -> 75.520213 | R23: =DryMass!H23/P23 -> 288.86367 | S23: =Carbon!H23/(D23+E23+G23) -> 35.300983 | T23: =Carbon!H23/P23 -> 135.02573 | U23: =T23/S23 -> 3.8249848
A24: 2001 | B24: 5 | C24: A | D24: 6.4494025 | E24: 11.576144 | F24: 3.2688542 | G24: 3.4754408 | H24: 6.4494025 | I24: 1.0667533 | J24: 4.7003033 | K24: =D24/DryMass!K24 -> 0.015548258 | L24: 0.000926136 | M24: =G24/DryMass!L24 -> 0.0056412385 | N24: =Carbon!K24/Nitrogen!D24 -> 29.778256 | O24: =Carbon!L24/Nitrogen!G24 -> 81.01058 | P24: =D24-D19+LitterInputs!J19+J24+Nitrogen!I24+0.6 -> 8.7701372 | Q24: =DryMass!H24/(D24+E24+G24) -> 111.9221 | R24: =DryMass!H24/P24 -> 274.38973 | S24: =Carbon!H24/(D24+E24+G24) -> 52.025409 | T24: =Carbon!H24/P24 -> 127.5462 | U24: =T24/S24 -> 2.4516135
A25: 2002 | B25: 1 | C25: E | D25: 6.968376 | E25: 21.354817 | F25: 5.0519658 | G25: 4.5159342 | H25: 6.968376 | I25: 1.5638056 | J25: 6.0874742 | K25: =D25/DryMass!K25 -> 0.013641354 | L25: 0.00125286 | M25: =G25/DryMass!L25 -> 0.0052046592 | N25: =Carbon!K25/Nitrogen!D25 -> 33.940911 | O25: =Carbon!L25/Nitrogen!G25 -> 87.805941 | P25: =D25-D20+LitterInputs!J20+J25+Nitrogen!I25+0.6 -> 11.195094 | Q25: =DryMass!H25/(D25+E25+G25) -> 85.523067 | R25: =DryMass!H25/P25 -> 250.86907 | S25: =Carbon!H25/(D25+E25+G25) -> 39.707617 | T25: =Carbon!H25/P25 -> 116.47633 | U25: =T25/S25 -> 2.9333497
A26: 2002 | B26: 2 | C26: E | D26: 7.0158628 | E26: 20.597594 | F26: 5.2221174 | G26: 1.8604238 | H26: 7.0158628 | I26: 1.797296 | J26: 3.1405763 | K26: =D26/DryMass!K26 -> 0.014168595 | L26: 0.001306668 | M26: =G26/DryMass!L26 -> 0.0055140813 | N26: =Carbon!K26/Nitrogen!D26 -> 32.677906 | O26: =Carbon!L26/Nitrogen!G26 -> 82.87872 | P26: =D26-D21+LitterInputs!J21+J26+Nitrogen!I26+0.6 -> 9.3637809 | Q26: =DryMass!H26/(D26+E26+G26) -> 81.313659 | R26: =DryMass!H26/P26 -> 255.94672 | S26: =Carbon!H26/(D26+E26+G26) -> 37.90891 | T26: =Carbon!H26/P26 -> 119.32388 | U26: =T26/S26 -> 3.1476474
A27: 2002 | B27: 3 | C27: A | D27: 7.2203656 | E27: 17.89091 | F27: 5.0099922 | G27: 0.29128921 | H27: 7.2203656 | I27: 1.735977 | J27: 1.3238752 | K27: =D27/DryMass!K27 -> 0.015244483 | L27: 0.0014416896 | M27: =G27/DryMass!L27 -> 0.0072741502 | N27: =Carbon!K27/Nitrogen!D27 -> 30.371642 | O27: =Carbon!L27/Nitrogen!G27 -> 62.825208 | P27: =D27-D22+LitterInputs!J22+J27+Nitrogen!I27+0.6 -> 8.5176104 | Q27: =DryMass!H27/(D27+E27+G27) -> 72.150403 | R27: =DryMass!H27/P27 -> 215.17834 | S27: =Carbon!H27/(D27+E27+G27) -> 33.743954 | T27: =Carbon!H27/P27 -> 100.63656 | U27: =T27/S27 -> 2.9823582
A28: 2002 | B28: 4 | C28: A | D28: 7.5987163 | E28: 23.837811 | F28: 6.0172014 | G28: 1.0853821 | H28: 7.5987163 | I28: 2.1089347 | J28: 1.4154627 | K28: =D28/DryMass!K28 -> 0.015375697 | L28: 0.001489296 | M28: =G28/DryMass!L28 -> 0.0058777998 | N28: =Carbon!K28/Nitrogen!D28 -> 30.112456 | O28: =Carbon!L28/Nitrogen!G28 -> 77.750182 | P28: =D28-D23+LitterInputs!J23+J28+Nitrogen!I28+0.6 -> 7.7234144 | Q28: =DryMass!H28/(D28+E28+G28) -> 64.285744 | R28: =DryMass!H28/P28 -> 270.69571 | S28: =Carbon!H28/(D28+E28+G28) -> 30.076594 | T28: =Carbon!H28/P28 -> 126.64713 | U28: =T28/S28 -> 4.2108202
A29: 2002 | B29: 5 | C29: A | D29: 6.642461 | E29: 12.6924 | F29: 3.3588279 | G29: 1.9503513 | H29: 6.642461 | I29: 1.2062303 | J29: 2.2058834 | K29: =D29/DryMass!K29 -> 0.013941138 | L29: 0.001082544 | M29: =G29/DryMass!L29 -> 0.0064957576 | N29: =Carbon!K29/Nitrogen!D29 -> 33.211062 | O29: =Carbon!L29/Nitrogen!G29 -> 70.35361 | P29: =D29-D24+LitterInputs!J24+J29+Nitrogen!I29+0.6 -> 8.1058406 | Q29: =DryMass!H29/(D29+E29+G29) -> 91.263417 | R29: =DryMass!H29/P29 -> 239.64957 | S29: =Carbon!H29/(D29+E29+G29) -> 42.5704 | T29: =Carbon!H29/P29 -> 111.78606 | U29: =T29/S29 -> 2.6259106
A30: 2003 | B30: 1 | C30: E | D30: 6.133393 | E30: 23.326293 | F30: 5.1951341 | G30: 3.0094539 | H30: 6.133393 | I30: 2.1146449 | J30: 2.5791236 | K30: =D30/DryMass!K30 -> 0.012691619 | L30: 0.0014050272 | M30: =G30/DryMass!L30 -> 0.0066346438 | N30: =Carbon!K30/Nitrogen!D30 -> 36.480767 | O30: =Carbon!L30/Nitrogen!G30 -> 68.880865 | P30: =D30-D25+LitterInputs!J25+J30+Nitrogen!I30+0.6 -> 7.8477292 | Q30: =DryMass!H30/(D30+E30+G30) -> 71.776562 | R30: =DryMass!H30/P30 -> 296.96785 | S30: =Carbon!H30/(D30+E30+G30) -> 33.53757 | T30: =Carbon!H30/P30 -> 138.75811 | U30: =T30/S30 -> 4.137393
A31: 2003 | B31: 2 | C31: E | D31: 6.7618555 | E31: 22.499242 | F31: 5.3606518 | G31: 2.5163382 | H31: 6.7618555 | I31: 2.0401831 | J31: 2.161774 | K31: =D31/DryMass!K31 -> 0.013690334 | L31: 0.0011996448 | M31: =G31/DryMass!L31 -> 0.0069646981 | N31: =Carbon!K31/Nitrogen!D31 -> 33.819483 | O31: =Carbon!L31/Nitrogen!G31 -> 65.616628 | P31: =D31-D26+LitterInputs!J26+J31+Nitrogen!I31+0.6 -> 7.5747704 | Q31: =DryMass!H31/(D31+E31+G31) -> 77.717664 | R31: =DryMass!H31/P31 -> 326.03868 | S31: =Carbon!H31/(D31+E31+G31) -> 36.35916 | T31: =Carbon!H31/P31 -> 152.53279 | U31: =T31/S31 -> 4.1951683
A32: 2003 | B32: 3 | C32: A | D32: 8.5476678 | E32: 19.787368 | F32: 5.1346161 | G32: 0.79414362 | H32: 8.5476678 | I32: 2.0210811 | J32: 0.57839684 | K32: =D32/DryMass!K32 -> 0.016172245 | L32: 0.0013869696 | M32: =G32/DryMass!L32 -> 0.0077248882 | N32: =Carbon!K32/Nitrogen!D32 -> 28.629296 | O32: =Carbon!L32/Nitrogen!G32 -> 59.159432 | P32: =D32-D27+LitterInputs!J27+J32+Nitrogen!I32+0.6 -> 7.8591294 | Q32: =DryMass!H32/(D32+E32+G32) -> 68.760811 | R32: =DryMass!H32/P32 -> 254.85596 | S32: =Carbon!H32/(D32+E32+G32) -> 32.221296 | T32: =Carbon!H32/P32 -> 119.42543 | U32: =T32/S32 -> 3.706413
... A59: 2008 | B59: 5 | C59: A | D59: 4.79921 | E59: 17.140834 | F59: 3.6775411 | G59: 1.56 | H59: 4.79921 | I59: 0.34461004 | J59: 1.0654625 | K59: =D59/DryMass!K59 -> 0.01235 | L59: 0.0008366 | M59: =G59/DryMass!L59 -> 0.007532593 | N59: =Carbon!K59/Nitrogen!D59 -> 37.489879 | O59: =Carbon!L59/Nitrogen!G59 -> 60.669679 | P59: =D59-D54+LitterInputs!J54+J59+Nitrogen!I59+0.6 -> 2.934424 | Q59: =DryMass!H59/(D59+E59+G59) -> 41.042666 | R59: =DryMass!H59/P59 -> 328.68613 | S59: =Carbon!H59/(D59+E59+G59) -> 19.106755 | T59: =Carbon!H59/P59 -> 153.01456 | U59: =T59/S59 -> 8.0084011
D63: Data
B64: year | C64: CO2 | D64: Average of NCAN | E64: Average of NWOOD | F64: Average of NCR | G64: Average of NFR | H64: Average of NGL | I64: Average of NGW | J64: Average of NGFR | K64: Average of NL_dm | L64: Average of NW_dm | M64: Average of NFR_dm | N64: Average of C_NL | O64: Average of C_NFR | P64: Average of NUP | Q64: Average of Nproddm | R64: Average of NUEdm | S64: Average of Nprodc | T64: Average of NUEc | U64: Average of MRT
B65: 1998 | C65: A | D65: 7.774808 | E65: 12.13232 | F65: 4.3085201 | G65: 0.582661 | H65: 7.774808 | I65: 1.6261777 | J65: 1.1159317 | K65: 0.017181275 | L65: 0.0012916453 | M65: 0.0068187583 | N65: 27.084218 | O65: 67.138878 | P65: 6.8589742 | Q65: 88.347558 | R65: 261.1464 | S65: 41.361278 | T65: 122.26162 | U65: 2.9762745
C66: E | D66: 7.1292392 | E66: 14.564646 | F66: 4.6175948 | G66: 0.65323321 | H66: 7.1292392 | I66: 2.4135921 | J66: 1.1431065 | K66: 0.015386675 | L66: 0.00146566 | M66: 0.0061224777 | N66: 30.092491 | O66: 75.48188 | P66: 7.5255287 | Q66: 98.800851 | R66: 293.68841 | S66: 46.288276 | T66: 137.59451 | U66: 2.9734576
B67: 1999 | C67: A | D67: 8.0432648 | E67: 13.562406 | F67: 4.432789 | G67: 1.03564 | H67: 8.0432648 | I67: 1.5543543 | J67: 1.5981719 | K67: 0.017464206 | L67: 0.0012916453 | M67: 0.0066886429 | N67: 26.559277 | O67: 68.622891 | P67: 7.5378478 | Q67: 85.630326 | R67: 269.47572 | S67: 40.019639 | T67: 125.93395 | U67: 3.0866768
C68: E | D68: 6.8953317 | E68: 16.390383 | F68: 4.7684813 | G68: 1.0298969 | H68: 6.8953317 | I68: 1.9766236 | J68: 1.7973163 | K68: 0.015123103 | L68: 0.00146566 | M68: 0.0064482032 | N68: 30.619764 | O68: 70.872707 | P68: 7.5088625 | Q68: 88.034809 | R68: 285.50438 | S68: 41.13394 | T68: 133.40107 | U68: 3.2404597
B69: 2000 | C69: A | D69: 8.1148423 | E69: 15.358762 | F69: 4.5777732 | G69: 0.47232862 | H69: 8.1148423 | I69: 1.9413401 | J69: 1.6586066 | K69: 0.016720803 | L69: 0.001389964 | M69: 0.0069156974 | N69: 27.770806 | O69: 66.31361 | P69: 7.9132838 | Q69: 91.748295 | R69: 286.76291 | S69: 42.880006 | T69: 134.11353 | U69: 3.296646
...
